BEGIN:VCALENDAR
PRODID:-//eluceo/ical//2.0/EN
VERSION:2.0
CALSCALE:GREGORIAN
BEGIN:VEVENT
UID:72f18c87921211c89ce0eb8adef07a38
DTSTAMP:20260423T102409Z
SUMMARY:Działanie 3.7 Gospodarka odpadami w sektorze publicznym w ramach Z
 integrowanych Inwestycji Terytorialnych Miejskich Obszarów Funkcjonalnych
  (typ projektu 1\,2) FELU.03.07-IZ.00-002/26
DESCRIPTION:https://funduszeue.lubelskie.pl/efrr/nabory/3.7-gospodarka-odpa
 dami-w-sektorze-publicznym-w-ramach-zintegrowanych-inwestycji-terytorialny
 ch-miejskich-obszarow-funkcjonalnyc/dzialanie-3.7-gospodarka-odpadami-w-se
 ktorze-publicznym-w-ramach-zintegrowanych-inwestycji-terytorialnych-miejsk
 ich-obszarow-2/\nDepartament Wdrażania Europejskiego Funduszu Rozwoju Reg
 ionalnego ogłasza nabór w ramach działania 3.7 Gospodarka odpadami w se
 ktorze publicznym w ramach Zintegrowanych Inwestycji Terytorialnych Miejsk
 ich Obszarów Funkcjonalnych
DTSTART:20260420T000000
DTEND:20260430T235900
LOCATION:Biuro Certyfikacji UMWL\, 3b\, Franciszka Stefczyka\, Bursaki\, Cz
 echów Północny\, Lublin\, województwo lubelskie\, 20-151\, Polska
END:VEVENT
END:VCALENDAR
