BEGIN:VCALENDAR
PRODID:-//eluceo/ical//2.0/EN
VERSION:2.0
CALSCALE:GREGORIAN
BEGIN:VEVENT
UID:5d81fc19065bc5ad99ccdaa2d5c6044b
DTSTAMP:20260423T102337Z
SUMMARY:Działanie 5.1 Niskoemisyjny transport miejski (typ projektu 1\,2\,
 3\,4\,5\,6) FELU.05.01-IZ.00-001/26
DESCRIPTION:https://funduszeue.lubelskie.pl/efrr/nabory/5.1-niskoemisyjny-t
 ransport-miejski/dzialanie-5.1-niskoemisyjny-transport-miejski-typ-projekt
 u-1-2-3-4-5-6-felu.05.01-iz.00-001-26/\nDepartament Wdrażania Europejskie
 go Funduszu Rozwoju Regionalnego ogłasza nabór w ramach działania 5.1 N
 iskoemisyjny transport miejski
DTSTART:20260427T000000
DTEND:20260528T000000
LOCATION:Biuro Certyfikacji UMWL\, 3b\, Franciszka Stefczyka\, Bursaki\, Cz
 echów Północny\, Lublin\, województwo lubelskie\, 20-151\, Polska
END:VEVENT
END:VCALENDAR
