BEGIN:VCALENDAR
PRODID:-//eluceo/ical//2.0/EN
VERSION:2.0
CALSCALE:GREGORIAN
BEGIN:VEVENT
UID:2408f6af9feb50f339eec8142814667f
DTSTAMP:20260423T120605Z
SUMMARY:Działanie 6.1 Poprawa regionalnej dostępności transportowej (typ
  projektu 1\, 2) FELU.06.01-IZ.00-002/26
DESCRIPTION:https://funduszeue.lubelskie.pl/efrr/nabory/6.1-poprawa-regiona
 lnej-dostepnosci-transportowej/dzialanie-6.1-poprawa-regionalnej-dostepnos
 ci-transportowej-typ-projektu-1-2-felu.06.01-iz.00-002-26/\nDepartament Wd
 rażania Europejskiego Funduszu Rozwoju Regionalnego ogłasza nabór w ram
 ach działania 6.1 Poprawa regionalnej dostępności transportowej
DTSTART:20260420T000000
DTEND:20260430T235900
LOCATION:Biuro Certyfikacji UMWL\, 3b\, Franciszka Stefczyka\, Bursaki\, Cz
 echów Północny\, Lublin\, województwo lubelskie\, 20-151\, Polska
END:VEVENT
END:VCALENDAR
