BEGIN:VCALENDAR
PRODID:-//eluceo/ical//2.0/EN
VERSION:2.0
CALSCALE:GREGORIAN
BEGIN:VEVENT
UID:0cf8e7be00f285ddff13b4f28f3924c3
DTSTAMP:20260423T120519Z
SUMMARY:8.6 Usługi zdrowotne FELU.08.06-IZ.00-004/26
DESCRIPTION:https://funduszeue.lubelskie.pl/efs/nabory/8.6-uslugi-zdrowotne
 /8.6-uslugi-zdrowotne-felu.08.06-iz.00-004-26/\nDepartament Wdrażania Eur
 opejskiego Funduszu Społecznego ogłasza nabór w ramach działania 8.6 U
 sługi zdrowotne
DTSTART:20260423T000000
DTEND:20260528T235900
LOCATION:19\, Czechowska\, Wieniawa\, Lublin\, województwo lubelskie\, 20-
 072\, Polska
END:VEVENT
END:VCALENDAR
