BEGIN:VCALENDAR
PRODID:-//eluceo/ical//2.0/EN
VERSION:2.0
CALSCALE:GREGORIAN
BEGIN:VEVENT
UID:0aca7d2f25368001188bda7059dbb2a9
DTSTAMP:20260423T120604Z
SUMMARY:Dni otwarte dla potencjalnych beneficjentów w ramach Działania 8.
 5 Usługi społeczne  (typ 5) – 12.05.2026 r.
DESCRIPTION:https://funduszeue.lubelskie.pl/efs/spotkania-wydarzenia/dni-ot
 warte-dla-potencjalnych-beneficjentow-w-ramach-dzialania-8.5-uslugi-spolec
 zne-typ-5-12.05.2026-r/\nDepartament Wdrażania Europejskiego Funduszu Spo
 łecznego (DW EFS) Urzędu Marszałkowskiego Województwa Lubelskiego w Lu
 blinie\, zaprasza na Dni otwarte pn. „Aplikowanie o środki na dofinanso
 wanie projektu w ramach naboru nr FELU.08.05-IZ.00-001/26 - Usługi społe
 czne”.\n\nCel spotkania\n\nIndywidualne konsultacje z pracownikami DW EF
 S w zakresie prawidłowego aplikowania o środki.\n\nW ramach postępowani
 a wsparciem może zostać objęty wyłącznie typ projektu 5. Budowanie zd
 olności organizacji społeczeństwa obywatelskiego w zakresie działań w
 spierających usługi społeczne\, określony w SZOP w ramach Działania 8
 .5 Usługi społeczne.\n\nDla kogo?\n\nWnioskodawcą uprawnionym do ubiega
 nia się o dofinansowanie jest organizacja społeczeństwa obywatelskiego\
 , rozumiana jako podmiot\, reprezentujący społeczeństwo obywatelskie ws
 kazany w Wytycznych dotyczących realizacji zasady partnerstwa na lata 202
 1-20278 (Podrozdział 5.1 pkt 1 ppkt c).\n\nWnioskodawcą jest organizacja
  społeczeństwa obywatelskiego o zasięgu regionalnym (wojewódzkim) lub 
 lokalnym statutowo działająca w obszarze usług społecznych świadczony
 ch w społeczności lokalnej.\n\nTermin i miejsce\n\n12 maj 2026 r.\n\nZap
 isy obowiązują na konkretną godzinę między 08:00 a 14:00\n\nCzas trwa
 nia konsultacji to ok. 45 min.\n\nDni otwarte odbędą się w siedzibie DW
  EFS\, ul. Czechowska 19\, 20-072 Lublin\,\n\npokój nr 4 (parter).\n\nZap
 isy:\npod numerem tel. 81 4781 496\n\nPodczas rejestracji telefonicznej b
 ędzie można zgłosić specjalne potrzeby związane z uczestnictwem w Dni
 ach Otwartych.\n\nWażne informacje\n\nDni Otwarte organizowane są bezpł
 atnie.\n\nProsimy o zapoznanie się z klauzulą informacyjną RODO\, dotyc
 zącą przetwarzania danych osobowych dostępną pod adresem: https://fund
 uszeue.lubelskie.pl/strony/dane-osobowe/klauzula-informacyjna-szkolenia/\n
 \nZgłaszając się na Dni Otwarte należy mieć na uwadze\, że przedmiot
 em zapytań w zakresie procedury wyboru projektów o charakterze ogólnym 
 oraz dotyczących Regulaminu nie mogą być konkretne zapisy czy rozwiąza
 nia zastosowane w danym projekcie. Należy jednocześnie pamiętać\, że 
 odpowiedź udzielona przez pracownika podczas Dni Otwartych nie jest równ
 oznaczna z wynikiem oceny projektu.
DTSTART:20260512T080000
DTEND:20260512T140000
LOCATION:
ORGANIZER;CN=Punkt Kontaktowy - Departament Wdrażania EFS w UMWL:mailto:ef
 s@lubelskie.pl
END:VEVENT
END:VCALENDAR
