BEGIN:VCALENDAR
PRODID:-//eluceo/ical//2.0/EN
VERSION:2.0
CALSCALE:GREGORIAN
BEGIN:VEVENT
UID:fb41960d648c1ee3c155f43eb3296580
DTSTAMP:20260423T102357Z
SUMMARY:Dni otwarte dla potencjalnych beneficjentów w ramach Działania 8.
 6 Usługi zdrowotne (typ 1) – 18.05.2026 r.
DESCRIPTION:https://funduszeue.lubelskie.pl/efs/spotkania-wydarzenia/dni-ot
 warte-dla-potencjalnych-beneficjentow-w-ramach-dzialania-8.6-uslugi-zdrowo
 tne-typ-1-18.05.2026-r/\nDepartament Wdrażania Europejskiego Funduszu Spo
 łecznego (DW EFS) Urzędu Marszałkowskiego Województwa Lubelskiego w Lu
 blinie\, zaprasza na Dni otwarte pn. „Aplikowanie o środki na dofinanso
 wanie projektu w ramach naboru nr FELU.08.06-IZ.00-004/26 - Usługi zdrowo
 tne”.\n\n\n\nCel spotkania\n\nIndywidualne konsultacje z pracownikami DW
  EFS w zakresie prawidłowego aplikowania o środki. W ramach postępowani
 a wsparciem może zostać objęty wyłącznie typ projektu 1 Opracowanie i
  realizacja programów profilaktycznych dotyczących profilaktyki chorób 
 będących istotnym problemem zdrowotnym regionu określony w SZOP w ramac
 h Działania 8.6 Usługi zdrowotne. Nabór zakłada realizację Regionalne
 go Programu Zdrowotnego w zakresie chorób układu metabolicznego.\n\n\n\n
 Dla kogo?\n\nWnioskodawcami uprawnionymi do ubiegania się o dofinansowani
 e są:\na) podmioty świadczące usługi społeczne\;\nb) podmioty wymieni
 one w art. 3 ust 2 i 3 ustawy z dnia 24 kwietnia 2003 r. o działalności 
 pożytku publicznego i o wolontariacie (Dz. U. z 2025 r. poz. 1338) statut
 owo działające w obszarze pomocy i integracji społecznej\;\nc) instytuc
 je pomocy i integracji społecznej\;\nd) podmioty ekonomii społecznej\;\n
 e) uczelnie\;\nf) podmioty wykonujące działalność leczniczą lub ich p
 odmioty tworzące.\n\n\n\nTermin i miejsce\n\n18 maj 2026 r.\n\nZapisy obo
 wiązują na konkretną godzinę między 08:00 a 14:00\n\nCzas trwania kon
 sultacji to ok. 45 min.\n\nDni otwarte odbędą się w siedzibie DW EFS\, 
 ul. Czechowska 19\, 20-072 Lublin.\n\nPokój nr 4 (parter).\n\n\n\nZapisy:
 \npod numerem tel. 81 4781 496\n\nPodczas rejestracji telefonicznej będzi
 e można zgłosić specjalne potrzeby związane z uczestnictwem w Dniach O
 twartych.\n\n\n\nWażne informacje\n\nDni Otwarte organizowane są bezpła
 tnie.\n\nProsimy o zapoznanie się z klauzulą informacyjną RODO\, dotycz
 ącą przetwarzania danych osobowych dostępną pod adresem: https://fundu
 szeue.lubelskie.pl/strony/dane-osobowe/klauzula-informacyjna-szkolenia/\n\
 nZgłaszając się na Dni Otwarte należy mieć na uwadze\, że przedmiote
 m zapytań w zakresie procedury wyboru projektów o charakterze ogólnym o
 raz dotyczących Regulaminu nie mogą być konkretne zapisy czy rozwiązan
 ia zastosowane w danym projekcie. Należy jednocześnie pamiętać\, że o
 dpowiedź udzielona przez pracownika podczas Dni Otwartych nie jest równo
 znaczna z wynikiem oceny projektu.
DTSTART:20260518T080000
DTEND:20260518T140000
LOCATION:
ORGANIZER;CN=Punkt Kontaktowy - Departament Wdrażania EFS w UMWL:mailto:ef
 s@lubelskie.pl
END:VEVENT
END:VCALENDAR
