BEGIN:VCALENDAR
PRODID:-//eluceo/ical//2.0/EN
VERSION:2.0
CALSCALE:GREGORIAN
BEGIN:VEVENT
UID:7a9348455f290d6b7388cdfea79979e6
DTSTAMP:20260423T102335Z
SUMMARY:Dni otwarte dla potencjalnych beneficjentów w ramach Działania 9.
 5 Ochrona środowiska pracy (typ 2) – 20.05.2026 r.
DESCRIPTION:https://funduszeue.lubelskie.pl/efs/spotkania-wydarzenia/dni-ot
 warte-dla-potencjalnych-beneficjentow-w-ramach-dzialania-9.5-ochrona-srodo
 wiska-pracy-typ-2-20.05.2026-r/\nDepartament Wdrażania Europejskiego Fund
 uszu Społecznego (DW EFS) Urzędu Marszałkowskiego Województwa Lubelski
 ego w Lublinie\, zaprasza na Dni otwarte pn. „Aplikowanie o środki na d
 ofinansowanie projektu w ramach naboru nr FELU.09.05-IZ.00-001/26 - Ochron
 a środowiska pracy”.\n\n\n\nCel spotkania\n\nIndywidualne konsultacje z
  pracownikami DW EFS w zakresie prawidłowego aplikowania o środki.\n\nW 
 ramach postępowania wsparciem może zostać objęty wyłącznie typ proje
 ktu 2. Programy kompleksowej rehabilitacji ułatwiające powrót do pracy.
 \n\n\n\nDla kogo?\n\nWnioskodawcami uprawnionymi do ubiegania się o dofin
 ansowanie są:\n\na) podmioty lecznicze wykonujące działalność lecznic
 zą lub podmioty go tworzące\,\n\nb) uczelnie\,\n\nc) osoby prawne lub je
 dnostki organizacyjne nieposiadające osobowości prawnej\, w szczególno
 ści organizacje pozarządowe\, organizacje non-profit\,\n\nd) podmioty ek
 onomii społecznej\, posiadające doświadczenie w zakresie działań prof
 ilaktycznych.\n\n\n\nTermin i miejsce\n\n20 maj 2026 r.\n\nZapisy obowiąz
 ują na konkretną godzinę między 08:00 a 14:00\n\nCzas trwania konsulta
 cji to ok. 45 min.\n\nDni otwarte odbędą się w siedzibie DW EFS\, ul. C
 zechowska 19\, 20-072 Lublin\,\n\npokój nr 4 (parter).\n\nZapisy:\npod nu
 merem tel. 81 4781 496\n\nPodczas rejestracji telefonicznej będzie można
  zgłosić specjalne potrzeby związane z uczestnictwem w Dniach Otwartych
 .\n\nWażne informacje\n\nDni Otwarte organizowane są bezpłatnie.\n\nPro
 simy o zapoznanie się z klauzulą informacyjną RODO\, dotyczącą przetw
 arzania danych osobowych dostępną pod adresem: https://funduszeue.lubels
 kie.pl/strony/dane-osobowe/klauzula-informacyjna-szkolenia/\n\nZgłaszają
 c się na Dni Otwarte należy mieć na uwadze\, że przedmiotem zapytań w
  zakresie procedury wyboru projektów o charakterze ogólnym oraz dotyczą
 cych Regulaminu nie mogą być konkretne zapisy czy rozwiązania zastosowa
 ne w danym projekcie. Należy jednocześnie pamiętać\, że odpowiedź ud
 zielona przez pracownika podczas Dni Otwartych nie jest równoznaczna z wy
 nikiem oceny projektu.
DTSTART:20260520T080000
DTEND:20260520T140000
LOCATION:
ORGANIZER;CN=Punkt Kontaktowy - Departament Wdrażania EFS w UMWL:mailto:ef
 s@lubelskie.pl
END:VEVENT
END:VCALENDAR
