BEGIN:VCALENDAR
PRODID:-//eluceo/ical//2.0/EN
VERSION:2.0
CALSCALE:GREGORIAN
BEGIN:VEVENT
UID:d9e6479ae7ab524a7cad2c855dabb00a
DTSTAMP:20260423T102348Z
SUMMARY:Szkolenie dla Beneficjentów realizujących projekty w ramach progr
 amu Fundusze Europejskie dla Lubelskiego 2021-2027 – 07.05.2026 r.
DESCRIPTION:https://funduszeue.lubelskie.pl/efs/spotkania-wydarzenia/szkole
 nie-dla-beneficjentow-realizujacych-projekty-w-ramach-programu-fundusze-eu
 ropejskie-dla-lubelskiego-2021-2027-07.05.2026-r/\nDepartament Wdrażania 
 Europejskiego Funduszu Społecznego (DW EFS) Urzędu Marszałkowskiego Woj
 ewództwa Lubelskiego w Lublinie\, zaprasza na Szkolenie skierowane do Ben
 eficjentów realizujących projekty w ramach programu Fundusze Europejskie
  dla Lubelskiego 2021-2027\, które odbędzie się 07.05.2026 r. w godzina
 ch 10:00-15:00.\n\nCel spotkania\n\nCelem szkolenia jest przekazanie infor
 macji o:\n\n\n\n\nnajważniejszych zagadnieniach w zakresie pracy w system
 ie SOWA EFS\nnajważniejszych zagadnieniach w zakresie pracy w systemie SM
  EFS - wprowadzenie do systemu SM EFS – monitorowanie uczestników proje
 ktu\nnajważniejszych zagadnieniach w zakresie pracy w systemie CST2021 - 
 rozpoczęcie pracy w systemie CST2021 – moduł SL2021 Projekty\n\n\n\n\n
 Termin i miejsce spotkania\n\n7 maj 2026 r.\, rozpoczęcie - godz. 10:00.\
 n\nSzkolenie odbędzie się w siedzibie DW EFS\, ul. Czechowska 19\, 20-07
 2 Lublin\,\n\nsala konferencyjna nr 100 (I piętro).\n\n\n\nWażne informa
 cje\n\n\n\nSzkolenie jest bezpłatne.\n\nLiczba miejsc ograniczona\, o udz
 iale decyduje kolejność zgłoszeń.\n\nProsimy o zapoznanie się z klauz
 ulą informacyjną RODO\, dotyczącą przetwarzania danych osobowych dost
 ępną pod adresem: https://funduszeue.lubelskie.pl/strony/dane-osobowe/kl
 auzula-informacyjna-szkolenia/\n\nRejestracja trwa do 30.04.2026 r.\n\nW p
 rzypadku pytań lub wątpliwości zapraszamy do kontaktu z pracownikiem Od
 działu Koordynacji tel. +48 81 4781 496.\n\nNie przesyłamy potwierdzeń\
 , wypełnienie i wysłanie formularza jest równoznaczne z zakwalifikowani
 em się na Szkolenie.\n 
DTSTART:20260507T100000
DTEND:20260507T150000
LOCATION:
ORGANIZER;CN=Punkt Kontaktowy - Departament Wdrażania EFS w UMWL:mailto:ef
 s@lubelskie.pl
END:VEVENT
END:VCALENDAR
