BEGIN:VCALENDAR
PRODID:-//eluceo/ical//2.0/EN
VERSION:2.0
CALSCALE:GREGORIAN
BEGIN:VEVENT
UID:17f37054dbba52011204cfa950a0aa28
DTSTAMP:20260423T102353Z
SUMMARY:Szkolenie dla potencjalnych beneficjentów w ramach Działania 8.6 
 Usługi zdrowotne (typ 1) – 08.05.2026 r.
DESCRIPTION:https://funduszeue.lubelskie.pl/efs/spotkania-wydarzenia/szkole
 nie-dla-potencjalnych-beneficjentow-w-ramach-dzialania-8.6-uslugi-zdrowotn
 e-typ-1-08.05.2026-r/\nDepartament Wdrażania Europejskiego Funduszu Społ
 ecznego (DW EFS) Urzędu Marszałkowskiego Województwa Lubelskiego w Lubl
 inie\, zaprasza na Szkolenie pn. „Aplikowanie o środki na dofinansowani
 e projektu w ramach naboru nr FELU.08.06-IZ.00-004/26 - Usługi zdrowotne
 ”.\n\n\n\nCel spotkania\n\nZapoznanie uczestników z dokumentacją obowi
 ązującą w ramach naboru w tym kryteriami wyboru projektów. W ramach po
 stępowania wsparciem może zostać objęty wyłącznie typ projektu 1 Opr
 acowanie i realizacja programów profilaktycznych dotyczących profilaktyk
 i chorób będących istotnym problemem zdrowotnym regionu określony w SZ
 OP w ramach Działania 8.6 Usługi zdrowotne. Nabór zakłada realizację 
 Regionalnego Programu Zdrowotnego w zakresie chorób układu metaboliczneg
 o.\n\n\n\nDla kogo?\n\nWnioskodawcami uprawnionymi do ubiegania się o dof
 inansowanie są:\na) podmioty świadczące usługi społeczne\;\nb) podmio
 ty wymienione w art. 3 ust 2 i 3 ustawy z dnia 24 kwietnia 2003 r. o dzia
 łalności pożytku publicznego i o wolontariacie (Dz. U. z 2025 r. poz. 1
 338) statutowo działające w obszarze pomocy i integracji społecznej\;\n
 c) instytucje pomocy i integracji społecznej\;\nd) podmioty ekonomii spo
 łecznej\;\ne) uczelnie\;\nf) podmioty wykonujące działalność lecznicz
 ą lub ich podmioty tworzące.\n\n\n\nTermin i miejsce\n\n8 maj 2026 r. w 
 godzinach 9:00-15:00\n\nSzkolenie odbędzie się w siedzibie DW EFS\, ul. 
 Czechowska 19\, 20-072 Lublin\,\n\nsala konferencyjna nr 100 (I piętro).\
 n\n\n\nWażne informacje\n\nSzkolenie jest bezpłatne.\n\nLiczba miejsc og
 raniczona\, o udziale decyduje kolejność zgłoszeń.\n\nProsimy o zapozn
 anie się z klauzulą informacyjną RODO\, dotyczącą przetwarzania danyc
 h osobowych dostępną pod adresem: https://funduszeue.lubelskie.pl/strony
 /dane-osobowe/klauzula-informacyjna-szkolenia/\n\n\n\nRejestracja trwa do 
 30.04.2026 r.\n\nZapraszamy do kontaktu - pracownik Oddziału Koordynacji 
 tel. +48 81 4781 496.\n\nNie przesyłamy potwierdzeń\, wypełnienie i wys
 łanie formularza jest równoznaczne z zakwalifikowaniem się na Szkolenie
 .\n 
DTSTART:20260508T090000
DTEND:20260508T150000
LOCATION:
ORGANIZER;CN=Punkt Kontaktowy - Departament Wdrażania EFS w UMWL:mailto:ef
 s@lubelskie.pl
END:VEVENT
END:VCALENDAR
