BEGIN:VCALENDAR
PRODID:-//eluceo/ical//2.0/EN
VERSION:2.0
CALSCALE:GREGORIAN
BEGIN:VEVENT
UID:b1a0aa9b6b1e8591c2203c5dcc02b3bf
DTSTAMP:20260423T120740Z
SUMMARY:Szkolenie dla potencjalnych beneficjentów w ramach Działania 9.5 
 Ochrona środowiska pracy (typ 2) – 06.05.2026 r.
DESCRIPTION:https://funduszeue.lubelskie.pl/efs/spotkania-wydarzenia/szkole
 nie-dla-potencjalnych-beneficjentow-w-ramach-dzialania-9.5-ochrona-srodowi
 ska-pracy-typ-2-06.05.2026-r/\nDepartament Wdrażania Europejskiego Fundus
 zu Społecznego (DW EFS) Urzędu Marszałkowskiego Województwa Lubelskieg
 o w Lublinie\, zaprasza na Szkolenie pn. „Aplikowanie o środki na dofin
 ansowanie projektu w ramach naboru nr FELU.09.05-IZ.00-001/26 - Ochrona ś
 rodowiska pracy”.\n\n\n\nCel spotkania\n\nZapoznanie uczestników z doku
 mentacją obowiązującą w ramach naboru w tym kryteriami wyboru projekt
 ów. W ramach postępowania wsparciem może zostać objęty wyłącznie ty
 p projektu 2. Programy kompleksowej rehabilitacji ułatwiające powrót do
  pracy.\n\n\n\nDla kogo?\n\nWnioskodawcami uprawnionymi do ubiegania się 
 o dofinansowanie są:\n\na) podmioty lecznicze wykonujące działalność 
 leczniczą lub podmioty go tworzące\,\n\nb) uczelnie\,\n\nc) osoby prawne
  lub jednostki organizacyjne nieposiadające osobowości prawnej\, w szcze
 gólności organizacje pozarządowe\, organizacje non-profit\,\n\nd) podmi
 oty ekonomii społecznej\, posiadające doświadczenie w zakresie działa
 ń profilaktycznych.\n\n\n\nTermin i miejsce\n\n6 maj 2026 r. w godzinach 
 9:00-15:00\n\nSzkolenie odbędzie się w siedzibie DW EFS\, ul. Czechowska
  19\, 20-072 Lublin\,\n\nsala konferencyjna nr 100 (I piętro).\n\n\n\nWa
 żne informacje\n\nSzkolenie jest bezpłatne.\n\nLiczba miejsc ograniczona
 \, o udziale decyduje kolejność zgłoszeń.\n\nProsimy o zapoznanie się
  z klauzulą informacyjną RODO\, dotyczącą przetwarzania danych osobowy
 ch dostępną pod adresem: https://funduszeue.lubelskie.pl/strony/dane-oso
 bowe/klauzula-informacyjna-szkolenia/\n\nRejestracja trwa do 29.04.2026 r.
 \n\nZapraszamy do kontaktu - pracownik Oddziału Koordynacji tel. +48 81 4
 781 496.\n\nNie przesyłamy potwierdzeń\, wypełnienie i wysłanie formul
 arza jest równoznaczne z zakwalifikowaniem się na Szkolenie.\n 
DTSTART:20260506T090000
DTEND:20260506T150000
LOCATION:
ORGANIZER;CN=Punkt Kontaktowy - Departament Wdrażania EFS w UMWL:mailto:ef
 s@lubelskie.pl
END:VEVENT
END:VCALENDAR
