BEGIN:VCALENDAR
PRODID:-//eluceo/ical//2.0/EN
VERSION:2.0
CALSCALE:GREGORIAN
BEGIN:VEVENT
UID:86782cdefcc3aa0ab3ed1e7378b45aae
DTSTAMP:20260423T102341Z
SUMMARY:Webinarium dla potencjalnych beneficjentów w ramach Działania 8.5
  Usługi społeczne  (typ 5) – 05.05.2026 r.
DESCRIPTION:https://funduszeue.lubelskie.pl/efs/spotkania-wydarzenia/webina
 rium-dla-potencjalnych-beneficjentow-w-ramach-dzialania-8.5-uslugi-spolecz
 ne-typ-5-05.05.2026-r/\nDepartament Wdrażania Europejskiego Funduszu Spo
 łecznego (DW EFS) Urzędu Marszałkowskiego Województwa Lubelskiego w Lu
 blinie\, zaprasza na Webinarium pn. „Aplikowanie o środki na dofinansow
 anie projektu w ramach naboru nr FELU.08.05-IZ.00-001/26 - Usługi społec
 zne”.\n\n\n\nCel spotkania\n\nZapoznanie uczestników z dokumentacją ob
 owiązującą w ramach naboru w tym kryteriami wyboru projektów. W ramach
  postępowania wsparciem może zostać objęty wyłącznie typ projektu 5.
  Budowanie zdolności organizacji społeczeństwa obywatelskiego w zakresi
 e działań wspierających usługi społeczne\, określony w SZOP w ramach
  Działania 8.5 Usługi społeczne.\n\n\n\nDla kogo?\n\nWnioskodawcą upra
 wnionym do ubiegania się o dofinansowanie jest organizacja społeczeństw
 a obywatelskiego\, rozumiana jako podmiot\, reprezentujący społeczeństw
 o obywatelskie wskazany w Wytycznych dotyczących realizacji zasady partne
 rstwa na lata 2021-20278 (Podrozdział 5.1 pkt 1 ppkt c).\n\nWnioskodawcą
  jest organizacja społeczeństwa obywatelskiego o zasięgu regionalnym (w
 ojewódzkim) lub lokalnym statutowo działająca w obszarze usług społec
 znych świadczonych w społeczności lokalnej.\n\n\n\nTermin i miejsce \n\
 n5 maj 2026 r.\, rozpoczęcie - godz. 9.00 (prosimy logować się ok. 10 m
 in wcześniej). Przewidujemy\, że webinarium potrwa do godz.14.00.\n\nWeb
 inarium odbywa się w trybie online\, uczestnicy korzystają z własnego k
 omputera / dostępu do Internetu (poza siedzibą organizatora). W dniu web
 inarium będzie możliwość zgłoszenia występujących problemów techni
 cznych pod numerem telefonu: 81 44 16 858.\n\n\n\nOpis webinarium\n\nWebin
 arium odbywa się „na żywo” w trybie online przy użyciu programu Mic
 rosoft Teams\, jednakże nie jest wymagana instalacja tego programu (do ud
 ziału w webinarium wystarczy przeglądarka internetowa).\n\n\n\nWażne in
 formacje\n\nWebinarium jest bezpłatne.\n\nW trakcie webinarium uczestnicy
  mogą na bieżąco\, za pośrednictwem czatu/mikrofonu\, zadawać pytania
  i wyjaśniać wątpliwości.\n\nProsimy o zapoznanie się z klauzulą inf
 ormacyjną RODO\, dotyczącą przetwarzania danych osobowych dostępną po
 d adresem: https://funduszeue.lubelskie.pl/strony/dane-osobowe/klauzula-in
 formacyjna-szkolenia/\n\nPo zarejestrowaniu się na wydarzenie każdy z uc
 zestników automatycznie otrzyma na podany przy rejestracji e-mail link po
 zwalający na dostęp do szkolenia.
DTSTART:20260505T090000
DTEND:20260505T140000
LOCATION:
ORGANIZER;CN=Punkt Kontaktowy - Departament Wdrażania EFS w UMWL:mailto:ef
 s@lubelskie.pl
END:VEVENT
END:VCALENDAR
