BEGIN:VCALENDAR
PRODID:-//eluceo/ical//2.0/EN
VERSION:2.0
CALSCALE:GREGORIAN
BEGIN:VEVENT
UID:0f6d5504baefaa2cc089cb5a6d9d3ff1
DTSTAMP:20260423T102338Z
SUMMARY:Webinarium dla potencjalnych beneficjentów w ramach Działania 8.6
  Usługi zdrowotne (typ 1) – 13.05.2026 r.
DESCRIPTION:https://funduszeue.lubelskie.pl/efs/spotkania-wydarzenia/webina
 rium-dla-potencjalnych-beneficjentow-w-ramach-dzialania-8.6-uslugi-zdrowot
 ne-typ-1-13.05.2026-r/\nDepartament Wdrażania Europejskiego Funduszu Spo
 łecznego (DW EFS) Urzędu Marszałkowskiego Województwa Lubelskiego w Lu
 blinie\, zaprasza na Webinarium pn. „Aplikowanie o środki na dofinansow
 anie projektu w ramach naboru nr FELU.08.06-IZ.00-004/26 - Usługi zdrowot
 ne”.\n\n\n\nCel spotkania\n\nZapoznanie uczestników z dokumentacją obo
 wiązującą w ramach naboru w tym kryteriami wyboru projektów. W ramach 
 postępowania wsparciem może zostać objęty wyłącznie typ projektu 1. 
 Opracowanie i realizacja programów profilaktycznych dotyczących profilak
 tyki chorób będących istotnym problemem zdrowotnym regionu określony w
  SZOP w ramach Działania 8.6 Usługi zdrowotne. Nabór zakłada realizacj
 ę Regionalnego Programu Zdrowotnego w zakresie chorób układu metabolicz
 nego.\n\n\n\nDla kogo?\n\nWnioskodawcami uprawnionymi do ubiegania się o 
 dofinansowanie są:\na) podmioty świadczące usługi społeczne\;\nb) pod
 mioty wymienione w art. 3 ust 2 i 3 ustawy z dnia 24 kwietnia 2003 r. o dz
 iałalności pożytku publicznego i o wolontariacie (Dz. U. z 2025 r. poz.
  1338) statutowo działające w obszarze pomocy i integracji społecznej\;
 \nc) instytucje pomocy i integracji społecznej\;\nd) podmioty ekonomii sp
 ołecznej\;\ne) uczelnie\;\nf) podmioty wykonujące działalność lecznic
 zą lub ich podmioty tworzące.\n\n\n\nTermin i miejsce \n\n13 maj 2026 r.
 \, rozpoczęcie - godz. 9.00 (prosimy logować się ok. 10 min wcześniej)
 . Przewidujemy\, że webinarium potrwa do godz.14.00.\n\nWebinarium odbywa
  się w trybie online\, uczestnicy korzystają z własnego komputera / dos
 tępu do Internetu (poza siedzibą organizatora). W dniu webinarium będzi
 e możliwość zgłoszenia występujących problemów technicznych pod num
 erem telefonu: 81 44 16 858.\n\n\n\nOpis webinarium\n\nWebinarium odbywa s
 ię „na żywo” w trybie online przy użyciu programu Microsoft Teams\,
  jednakże nie jest wymagana instalacja tego programu (do udziału w webin
 arium wystarczy przeglądarka internetowa).\n\n\n\nWażne informacje\n\nWe
 binarium jest bezpłatne.\n\nW trakcie webinarium uczestnicy mogą na bie
 żąco\, za pośrednictwem czatu/mikrofonu\, zadawać pytania i wyjaśnia
 ć wątpliwości.\n\nProsimy o zapoznanie się z klauzulą informacyjną R
 ODO\, dotyczącą przetwarzania danych osobowych dostępną pod adresem: h
 ttps://funduszeue.lubelskie.pl/strony/dane-osobowe/klauzula-informacyjna-s
 zkolenia/\n\nPo zarejestrowaniu się na wydarzenie każdy z uczestników a
 utomatycznie otrzyma na podany przy rejestracji e-mail link pozwalający n
 a dostęp do szkolenia.
DTSTART:20260513T090000
DTEND:20260513T140000
LOCATION:
ORGANIZER;CN=Punkt Kontaktowy - Departament Wdrażania EFS w UMWL:mailto:ef
 s@lubelskie.pl
END:VEVENT
END:VCALENDAR
