BEGIN:VCALENDAR
PRODID:-//eluceo/ical//2.0/EN
VERSION:2.0
CALSCALE:GREGORIAN
BEGIN:VEVENT
UID:e472c9b833382e0656ca9b5d869cb90a
DTSTAMP:20260423T102341Z
SUMMARY:Webinarium dla potencjalnych beneficjentów w ramach Działania 9.5
  Ochrona środowiska pracy (typ 2) – 15.05.2026 r.
DESCRIPTION:https://funduszeue.lubelskie.pl/efs/spotkania-wydarzenia/webina
 rium-dla-potencjalnych-beneficjentow-w-ramach-dzialania-9.5-ochrona-srodow
 iska-pracy-typ-2-15.05.2026-r/\nDepartament Wdrażania Europejskiego Fundu
 szu Społecznego (DW EFS) Urzędu Marszałkowskiego Województwa Lubelskie
 go w Lublinie\, zaprasza na Webinarium pn. „Aplikowanie o środki na dof
 inansowanie projektu w ramach naboru nr FELU.09.05-IZ.00-001/26 - Ochrona 
 środowiska pracy”.\n\n\n\nCel spotkania\n\nZapoznanie uczestników z do
 kumentacją obowiązującą w ramach naboru w tym kryteriami wyboru projek
 tów. W ramach postępowania wsparciem może zostać objęty wyłącznie t
 yp projektu 2. Programy kompleksowej rehabilitacji ułatwiające powrót d
 o pracy.\n\n\n\nDla kogo?\n\nWnioskodawcami uprawnionymi do ubiegania się
  o dofinansowanie są:\n\na) podmioty lecznicze wykonujące działalność
  leczniczą lub podmioty go tworzące\,\n\nb) uczelnie\,\n\nc) osoby prawn
 e lub jednostki organizacyjne nieposiadające osobowości prawnej\, w szcz
 ególności organizacje pozarządowe\, organizacje non-profit\,\n\nd) podm
 ioty ekonomii społecznej\, posiadające doświadczenie w zakresie działa
 ń profilaktycznych.\n\n\n\nTermin i miejsce \n\n15 maj 2026 r.\, rozpocz
 ęcie - godz. 9.00 (prosimy logować się ok. 10 min wcześniej). Przewidu
 jemy\, że webinarium potrwa do godz.14.00.\n\nWebinarium odbywa się w tr
 ybie online\, uczestnicy korzystają z własnego komputera / dostępu do I
 nternetu (poza siedzibą organizatora). W dniu webinarium będzie możliwo
 ść zgłoszenia występujących problemów technicznych pod numerem telef
 onu: 81 44 16 858.\n\n\n\nOpis webinarium\n\nWebinarium odbywa się „na 
 żywo” w trybie online przy użyciu programu Microsoft Teams\, jednakże
  nie jest wymagana instalacja tego programu (do udziału w webinarium wyst
 arczy przeglądarka internetowa).\n\n\n\nWażne informacje\n\nWebinarium j
 est bezpłatne.\n\nW trakcie webinarium uczestnicy mogą na bieżąco\, za
  pośrednictwem czatu/mikrofonu\, zadawać pytania i wyjaśniać wątpliwo
 ści.\n\nProsimy o zapoznanie się z klauzulą informacyjną RODO\, dotycz
 ącą przetwarzania danych osobowych dostępną pod adresem: https://fundu
 szeue.lubelskie.pl/strony/dane-osobowe/klauzula-informacyjna-szkolenia/\n\
 nPo zarejestrowaniu się na wydarzenie każdy z uczestników automatycznie
  otrzyma na podany przy rejestracji e-mail link pozwalający na dostęp do
  szkolenia.
DTSTART:20260515T090000
DTEND:20260515T140000
LOCATION:
ORGANIZER;CN=Punkt Kontaktowy - Departament Wdrażania EFS w UMWL:mailto:ef
 s@lubelskie.pl
END:VEVENT
END:VCALENDAR
