BEGIN:VCALENDAR
PRODID:-//eluceo/ical//2.0/EN
VERSION:2.0
CALSCALE:GREGORIAN
BEGIN:VEVENT
UID:eb51172da99b0a0d10649b7f64f5e089
DTSTAMP:20260425T151811Z
SUMMARY:Dotacje dla firm w Lubelskim - rozwój biznesu i gospodarka obiegu 
 zamkniętego! 7 maja 2026 r. Biała Podlaska
DESCRIPTION:https://funduszeue.lubelskie.pl/lawp/spotkania-wydarzenia/dotac
 je-dla-firm-w-lubelskim-rozwoj-biznesu-i-gospodarka-obiegu-zamknietego-7-m
 aja-2026-r-biala-podlaska/\nZapraszamy do udziału w szkoleniu stacjonarny
 m dotyczącym możliwości uzyskania wsparcia na rozwój firm z programu F
 undusze Europejskie dla Lubelskiego. Spotkanie odbędzie się 7 maja 2026 
 r. w Białej Podlaskiej.
DTSTART:20260507T100000
DTEND:20260507T113000
LOCATION:Starostwo Powiatowe Biała Podlaska\, 41\, Brzeska\, Centrum\, Bia
 ła Podlaska\, województwo lubelskie\, 21-500\, Polska
ORGANIZER;CN=Punkt Kontaktowy - Lubelska Agencja Wspierania Przedsiębiorcz
 ości w Lublinie:mailto:lawp@lubelskie.pl
END:VEVENT
END:VCALENDAR
