BEGIN:VCALENDAR
PRODID:-//eluceo/ical//2.0/EN
VERSION:2.0
CALSCALE:GREGORIAN
BEGIN:VEVENT
UID:2d7ef137cd80bd00cd7d3f440a3b39b4
DTSTAMP:20260423T102235Z
SUMMARY:Działanie 9.3 Wsparcie instytucji rynku pracy (typ projektu 2)
DESCRIPTION:https://funduszeue.lubelskie.pl/wup/nabory/9.3-wsparcie-instytu
 cji-rynku-pracy/dzialanie-9.3-wsparcie-instytucji-rynku-pracy-typ-projektu
 -2/\nWojewódzki Urząd Pracy w Lublinie ogłasza nabór w ramach działan
 ia 9.3 Wsparcie instytucji rynku pracy
DTSTART:20260422T000000
DTEND:20260515T235900
LOCATION:4\, Obywatelska\, Lemszczyzna\, Śródmieście\, Lublin\, wojewód
 ztwo lubelskie\, 20-092\, Polska
ORGANIZER;CN=Wojewódzki Urząd Pracy w Lublinie:mailto:sekretariat@wup.lub
 lin.pl
END:VEVENT
END:VCALENDAR
